BEGIN:VCALENDAR
VERSION:2.0
PRODID:-//hacksw/handcal//NONSGML v1.0//EN
CALSCALE:GREGORIAN
BEGIN:VEVENT
UID:69e5fd87bbd76
DTSTART:20180812T193000Z
DTSTAMP:20260420T101847Z
DTEND:20180813T193000Z
LOCATION:Dublin
DESCRIPTION:Nano Tenchnology Event
URL;VALUE=URI:https://energymaterials.materialsconferences.com/
SUMMARY:20th International Conference on  Advanced Energy Materials a
 and Research
END:VEVENT
END:VCALENDAR
