BEGIN:VCALENDAR
VERSION:2.0
PRODID:-//hacksw/handcal//NONSGML v1.0//EN
CALSCALE:GREGORIAN
BEGIN:VEVENT
UID:69e61174660d8
DTSTART:20180826T193000Z
DTSTAMP:20260420T114348Z
DTEND:20180827T193000Z
LOCATION:Boston
DESCRIPTION:Nano Tenchnology Event
URL;VALUE=URI:https://energymaterials.conferenceseries.com
SUMMARY:2nd International Conference on  Energy Materials and Fuel Ce
 ell Research
END:VEVENT
END:VCALENDAR
