BEGIN:VCALENDAR
VERSION:2.0
PRODID:-//hacksw/handcal//NONSGML v1.0//EN
CALSCALE:GREGORIAN
BEGIN:VEVENT
UID:69e89d606d447
DTSTART:20180916T193000Z
DTSTAMP:20260422T100520Z
DTEND:20180920T193000Z
LOCATION:Izmir
DESCRIPTION:Nano Tenchnology Event
URL;VALUE=URI:http://satf2018.org/
SUMMARY:3rd International Science and Applications of Thin Films\, Co
 onference &amp\; Exhibition (SATF 2018)
END:VEVENT
END:VCALENDAR
