BEGIN:VCALENDAR
VERSION:2.0
PRODID:-//hacksw/handcal//NONSGML v1.0//EN
CALSCALE:GREGORIAN
BEGIN:VEVENT
UID:69e5cf78c9ec8
DTSTART:20180605T193000Z
DTSTAMP:20260420T070216Z
DTEND:20180606T193000Z
LOCATION:Philadelphia
DESCRIPTION:Nano Tenchnology Event
URL;VALUE=URI:https://nanoworld.conferenceseries.com/
SUMMARY:Nano World Summit: Current and Future Perspectives
END:VEVENT
END:VCALENDAR
