BEGIN:VCALENDAR
VERSION:2.0
PRODID:-//hacksw/handcal//NONSGML v1.0//EN
CALSCALE:GREGORIAN
BEGIN:VEVENT
UID:69e65f62d8df3
DTSTART:20181118T203000Z
DTSTAMP:20260420T171618Z
DTEND:20181119T203000Z
LOCATION:Bucharest
DESCRIPTION:Nano Tenchnology Event
URL;VALUE=URI:https://crystallography.materialsconferences.com/
SUMMARY:4th International Conference on Crystallography & Novel Mater
 rials
END:VEVENT
END:VCALENDAR
