BEGIN:VCALENDAR
VERSION:2.0
PRODID:-//hacksw/handcal//NONSGML v1.0//EN
CALSCALE:GREGORIAN
BEGIN:VEVENT
UID:69e6248126e62
DTSTART:20180918T193000Z
DTSTAMP:20260420T130505Z
DTEND:20180920T193000Z
LOCATION:Tokyo
DESCRIPTION:Nano Tenchnology Event
URL;VALUE=URI:https://advancedmaterials.conferenceseries.com/
SUMMARY:22nd International Conference on  Advanced Materials and Nano
 otechnology
END:VEVENT
END:VCALENDAR
