BEGIN:VCALENDAR
VERSION:2.0
PRODID:-//hacksw/handcal//NONSGML v1.0//EN
CALSCALE:GREGORIAN
BEGIN:VEVENT
UID:69e7c002c2594
DTSTART:20180623T193000Z
DTSTAMP:20260421T182050Z
DTEND:20180628T193000Z
LOCATION:Thessaloniki
DESCRIPTION:Nano Tenchnology Event
URL;VALUE=URI:http://www.sinaxis.gr/EDS2018/index.php?q=content/eds20
 018
SUMMARY:19th International Conference on Extended Defects in Semicond
 ductors
END:VEVENT
END:VCALENDAR
