BEGIN:VCALENDAR
VERSION:2.0
PRODID:-//hacksw/handcal//NONSGML v1.0//EN
CALSCALE:GREGORIAN
BEGIN:VEVENT
UID:69e62475bb6d1
DTSTART:20180912T193000Z
DTSTAMP:20260420T130453Z
DTEND:20180913T193000Z
LOCATION:London
DESCRIPTION:Nano Tenchnology Event
URL;VALUE=URI:https://biosensors.conferenceseries.com/europe/
SUMMARY:9th Euro Biosensors & Bioelectronics Congress
END:VEVENT
END:VCALENDAR
