BEGIN:VCALENDAR
VERSION:2.0
PRODID:-//hacksw/handcal//NONSGML v1.0//EN
CALSCALE:GREGORIAN
BEGIN:VEVENT
UID:69e64d22ee6a0
DTSTART:20181101T203000Z
DTSTAMP:20260420T155826Z
DTEND:20181102T203000Z
LOCATION:San Francisco
DESCRIPTION:Nano Tenchnology Event
URL;VALUE=URI:https://nanochemistry.conferenceseries.com/
SUMMARY:2nd International Conference on  Nanostructured Materials & N
 Nanochemistry
END:VEVENT
END:VCALENDAR
