BEGIN:VCALENDAR
VERSION:2.0
PRODID:-//hacksw/handcal//NONSGML v1.0//EN
CALSCALE:GREGORIAN
BEGIN:VEVENT
UID:69e5cf172e2c2
DTSTART:20180516T193000Z
DTSTAMP:20260420T070039Z
DTEND:20180517T193000Z
LOCATION:Rome
DESCRIPTION:Nano Tenchnology Event
URL;VALUE=URI:https://materialschemistry.conferenceseries.com/
SUMMARY:6th International Conference and Exhibition on  Materials Sci
 ience and Chemistry
END:VEVENT
END:VCALENDAR
