BEGIN:VCALENDAR
VERSION:2.0
PRODID:-//hacksw/handcal//NONSGML v1.0//EN
CALSCALE:GREGORIAN
BEGIN:VEVENT
UID:69e5e9a445224
DTSTART:20180708T193000Z
DTSTAMP:20260420T085356Z
DTEND:20180709T193000Z
LOCATION:Sydney
DESCRIPTION:Nano Tenchnology Event
URL;VALUE=URI:https://agriculture.conferenceseries.com/
SUMMARY:12th International Conference on  Agriculture and Horticultur
 re
END:VEVENT
END:VCALENDAR
