BEGIN:VCALENDAR
VERSION:2.0
PRODID:-//hacksw/handcal//NONSGML v1.0//EN
CALSCALE:GREGORIAN
BEGIN:VEVENT
UID:69e5e9a3bbdf8
DTSTART:20180715T193000Z
DTSTAMP:20260420T085355Z
DTEND:20180717T193000Z
LOCATION:Rome
DESCRIPTION:Nano Tenchnology Event
URL;VALUE=URI:https://foodpackaging.conferenceseries.com/
SUMMARY:3rd International Conference on Food & Beverage Packaging
END:VEVENT
END:VCALENDAR
