BEGIN:VCALENDAR
VERSION:2.0
PRODID:-//hacksw/handcal//NONSGML v1.0//EN
CALSCALE:GREGORIAN
BEGIN:VEVENT
UID:69e5fdb10af0c
DTSTART:20180725T193000Z
DTSTAMP:20260420T101929Z
DTEND:20180726T193000Z
LOCATION:Amsterdam
DESCRIPTION:Nano Tenchnology Event
URL;VALUE=URI:https://foodchemistrycongress.conferenceseries.com/
SUMMARY:European Food Chemistry Congress
END:VEVENT
END:VCALENDAR
