BEGIN:VCALENDAR
VERSION:2.0
PRODID:-//hacksw/handcal//NONSGML v1.0//EN
CALSCALE:GREGORIAN
BEGIN:VEVENT
UID:69e611b3187fc
DTSTART:20180902T193000Z
DTSTAMP:20260420T114451Z
DTEND:20180903T193000Z
LOCATION:Dubai
DESCRIPTION:Nano Tenchnology Event
URL;VALUE=URI:https://foodchemistry-microbiology.conferenceseries.com
 m/
SUMMARY:11th World Congress on  Food Chemistry & Food Microbiology
END:VEVENT
END:VCALENDAR
