BEGIN:VCALENDAR
VERSION:2.0
PRODID:-//hacksw/handcal//NONSGML v1.0//EN
CALSCALE:GREGORIAN
BEGIN:VEVENT
UID:69e6246dd2fb5
DTSTART:20180916T193000Z
DTSTAMP:20260420T130445Z
DTEND:20180917T193000Z
LOCATION:Vancouver
DESCRIPTION:Nano Tenchnology Event
URL;VALUE=URI:https://fisheries.conferenceseries.com/
SUMMARY:9th International conference on  Fisheries & Aquaculture
END:VEVENT
END:VCALENDAR
