BEGIN:VCALENDAR
VERSION:2.0
PRODID:-//hacksw/handcal//NONSGML v1.0//EN
CALSCALE:GREGORIAN
BEGIN:VEVENT
UID:69e639a835dce
DTSTART:20180919T193000Z
DTSTAMP:20260420T143520Z
DTEND:20180920T193000Z
LOCATION:Prague
DESCRIPTION:Nano Tenchnology Event
URL;VALUE=URI:https://foodcongress.conferenceseries.com/
SUMMARY:International Congress on  Food Processing\, Safety & Packagi
 ing
END:VEVENT
END:VCALENDAR
