BEGIN:VCALENDAR
VERSION:2.0
PRODID:-//hacksw/handcal//NONSGML v1.0//EN
CALSCALE:GREGORIAN
BEGIN:VEVENT
UID:69e6397a3a881
DTSTART:20181010T203000Z
DTSTAMP:20260420T143434Z
DTEND:20181012T203000Z
LOCATION:Moscow
DESCRIPTION:Nano Tenchnology Event
URL;VALUE=URI:https://www.biotechnologycongress.com/europe/
SUMMARY:21st European Biotechnology Congress
END:VEVENT
END:VCALENDAR
