BEGIN:VCALENDAR
VERSION:2.0
PRODID:-//hacksw/handcal//NONSGML v1.0//EN
CALSCALE:GREGORIAN
BEGIN:VEVENT
UID:69e65fe8d1a60
DTSTART:20181014T203000Z
DTSTAMP:20260420T171832Z
DTEND:20181015T203000Z
LOCATION:Athens
DESCRIPTION:Nano Tenchnology Event
URL;VALUE=URI:https://foodsciencecongress.conferenceseries.com/
SUMMARY:World Food Science and Technology Congress
END:VEVENT
END:VCALENDAR
