BEGIN:VCALENDAR
VERSION:2.0
PRODID:-//hacksw/handcal//NONSGML v1.0//EN
CALSCALE:GREGORIAN
BEGIN:VEVENT
UID:69e64d0ea05b9
DTSTART:20181025T203000Z
DTSTAMP:20260420T155806Z
DTEND:20181026T203000Z
LOCATION:Boston
DESCRIPTION:Nano Tenchnology Event
URL;VALUE=URI:https://agriculturetechnology.conferenceseries.com/
SUMMARY:Global Summit on Agriculture\, Food Science and Technology
END:VEVENT
END:VCALENDAR
