BEGIN:VCALENDAR
VERSION:2.0
PRODID:-//hacksw/handcal//NONSGML v1.0//EN
CALSCALE:GREGORIAN
BEGIN:VEVENT
UID:69e64d2381779
DTSTART:20181028T203000Z
DTSTAMP:20260420T155827Z
DTEND:20181029T203000Z
LOCATION:Valencia
DESCRIPTION:Nano Tenchnology Event
URL;VALUE=URI:https://europe.plantscienceconferences.com/
SUMMARY:6th Global Summit on  Plant Science
END:VEVENT
END:VCALENDAR
