BEGIN:VCALENDAR
VERSION:2.0
PRODID:-//hacksw/handcal//NONSGML v1.0//EN
CALSCALE:GREGORIAN
BEGIN:VEVENT
UID:69e639c93aedd
DTSTART:20180927T203000Z
DTSTAMP:20260420T143553Z
DTEND:20180928T203000Z
LOCATION:Chicago
DESCRIPTION:Nano Tenchnology Event
URL;VALUE=URI:https://foodprocessing.global-summit.com/
SUMMARY:21st Global Summit on  Food Processing\, Safety & Technology
END:VEVENT
END:VCALENDAR
