BEGIN:VCALENDAR
VERSION:2.0
PRODID:-//hacksw/handcal//NONSGML v1.0//EN
CALSCALE:GREGORIAN
BEGIN:VEVENT
UID:69e6749668a06
DTSTART:20181128T203000Z
DTSTAMP:20260420T184646Z
DTEND:20181129T203000Z
LOCATION:Dublin
DESCRIPTION:Nano Tenchnology Event
URL;VALUE=URI:https://foodmicrobiology.foodtechconferences.com/
SUMMARY:3rd International Conference on Food Microbiology
END:VEVENT
END:VCALENDAR
