BEGIN:VCALENDAR
VERSION:2.0
PRODID:-//hacksw/handcal//NONSGML v1.0//EN
CALSCALE:GREGORIAN
BEGIN:VEVENT
UID:69e5fe216fc3f
DTSTART:20180814T193000Z
DTSTAMP:20260420T102121Z
DTEND:20180815T193000Z
LOCATION:Singapore
DESCRIPTION:Nano Tenchnology Event
URL;VALUE=URI:https://www.biotechnologycongress.com/asia-pacific/
SUMMARY:16th Asia Pacific Biotechnology Congress
END:VEVENT
END:VCALENDAR
