BEGIN:VCALENDAR
VERSION:2.0
PRODID:-//hacksw/handcal//NONSGML v1.0//EN
CALSCALE:GREGORIAN
BEGIN:VEVENT
UID:69e6247f6f72d
DTSTART:20180916T193000Z
DTSTAMP:20260420T130503Z
DTEND:20180917T193000Z
LOCATION:Singapore
DESCRIPTION:Nano Tenchnology Event
URL;VALUE=URI:https://enzymology.biochemistryconferences.com/
SUMMARY:4th International Conference on Enzymology\, Lipid Science & 
  Glycobiology
END:VEVENT
END:VCALENDAR
