BEGIN:VCALENDAR
VERSION:2.0
PRODID:-//hacksw/handcal//NONSGML v1.0//EN
CALSCALE:GREGORIAN
BEGIN:VEVENT
UID:69e5fda950421
DTSTART:20180826T193000Z
DTSTAMP:20260420T101921Z
DTEND:20180827T193000Z
LOCATION:Toronto
DESCRIPTION:Nano Tenchnology Event
URL;VALUE=URI:https://nucleicacids.conferenceseries.com/
SUMMARY:3rd International Conference on  Molecular Biology & Nucleic 
  Acids
END:VEVENT
END:VCALENDAR
