BEGIN:VCALENDAR
VERSION:2.0
PRODID:-//hacksw/handcal//NONSGML v1.0//EN
CALSCALE:GREGORIAN
BEGIN:VEVENT
UID:69e67c43b6f01
DTSTART:20190509T193000Z
DTSTAMP:20260420T191931Z
DTEND:20190510T193000Z
LOCATION:Tokyo
DESCRIPTION:Nano Tenchnology Event
URL;VALUE=URI:https://biochemistry.conferenceseries.com
SUMMARY:4th International Conference on  Biochemistry & Molecular Bio
 ology
END:VEVENT
END:VCALENDAR
