BEGIN:VCALENDAR
VERSION:2.0
PRODID:-//hacksw/handcal//NONSGML v1.0//EN
CALSCALE:GREGORIAN
BEGIN:VEVENT
UID:69e67495f28ca
DTSTART:20181202T203000Z
DTSTAMP:20260420T184645Z
DTEND:20181203T203000Z
LOCATION:Bangkok
DESCRIPTION:Nano Tenchnology Event
URL;VALUE=URI:https://oil-gas.chemicalengineeringconference.com/
SUMMARY:10th Asia Pacific Congress on  Oil and Gas
END:VEVENT
END:VCALENDAR
