BEGIN:VCALENDAR
VERSION:2.0
PRODID:-//hacksw/handcal//NONSGML v1.0//EN
CALSCALE:GREGORIAN
BEGIN:VEVENT
UID:69e611d53d551
DTSTART:20180904T193000Z
DTSTAMP:20260420T114525Z
DTEND:20180905T193000Z
LOCATION:Tokyo
DESCRIPTION:Nano Tenchnology Event
URL;VALUE=URI:https://catalysis.chemicalengineeringconference.com/
SUMMARY:5th World Congress on  Catalysis and Chemical Engineering
END:VEVENT
END:VCALENDAR
