BEGIN:VCALENDAR
VERSION:2.0
PRODID:-//hacksw/handcal//NONSGML v1.0//EN
CALSCALE:GREGORIAN
BEGIN:VEVENT
UID:69e611b29274f
DTSTART:20180827T193000Z
DTSTAMP:20260420T114450Z
DTEND:20180829T193000Z
LOCATION:Paris
DESCRIPTION:Nano Tenchnology Event
URL;VALUE=URI:https://chemicalengineering.annualcongress.com/
SUMMARY:5th World congress on  Chemical Engineering and Catalysis
END:VEVENT
END:VCALENDAR
