BEGIN:VCALENDAR
VERSION:2.0
PRODID:-//hacksw/handcal//NONSGML v1.0//EN
CALSCALE:GREGORIAN
BEGIN:VEVENT
UID:69e5fe020e1f4
DTSTART:20180826T193000Z
DTSTAMP:20260420T102050Z
DTEND:20180827T193000Z
LOCATION:Boston
DESCRIPTION:Nano Tenchnology Event
URL;VALUE=URI:https://renewableenergy.conferenceseries.com/
SUMMARY:2nd International Conference on  Renewable Energy and Resourc
 ces
END:VEVENT
END:VCALENDAR
