BEGIN:VCALENDAR
VERSION:2.0
PRODID:-//hacksw/handcal//NONSGML v1.0//EN
CALSCALE:GREGORIAN
BEGIN:VEVENT
UID:69e65f54025db
DTSTART:20181108T203000Z
DTSTAMP:20260420T171604Z
DTEND:20181109T203000Z
LOCATION:Birmingham
DESCRIPTION:Nano Tenchnology Event
URL;VALUE=URI:https://petroleumprocessing.conferenceseries.com/
SUMMARY:World Congress on  Petroleum Processing\, Petrochemistry and 
  Geology
END:VEVENT
END:VCALENDAR
