BEGIN:VCALENDAR
VERSION:2.0
PRODID:-//hacksw/handcal//NONSGML v1.0//EN
CALSCALE:GREGORIAN
BEGIN:VEVENT
UID:69e6397ab54e9
DTSTART:20181014T203000Z
DTSTAMP:20260420T143434Z
DTEND:20181015T203000Z
LOCATION:Las Vegas
DESCRIPTION:Nano Tenchnology Event
URL;VALUE=URI:https://biopolymers-bioplastics.conferenceseries.com/
SUMMARY:8th International Conference and Exhibition on  Biopolymers a
 and Bioplastics
END:VEVENT
END:VCALENDAR
