BEGIN:VCALENDAR
VERSION:2.0
PRODID:-//hacksw/handcal//NONSGML v1.0//EN
CALSCALE:GREGORIAN
BEGIN:VEVENT
UID:69e6243b76331
DTSTART:20180916T193000Z
DTSTAMP:20260420T130355Z
DTEND:20180917T193000Z
LOCATION:Hong Kong
DESCRIPTION:Nano Tenchnology Event
URL;VALUE=URI:http://chemicalengineeringconference.com
SUMMARY:6th Asia Pacific Congress on  Chemical and Biochemical Engine
 eering
END:VEVENT
END:VCALENDAR
