BEGIN:VCALENDAR
VERSION:2.0
PRODID:-//hacksw/handcal//NONSGML v1.0//EN
CALSCALE:GREGORIAN
BEGIN:VEVENT
UID:69e6243ad977b
DTSTART:20180916T193000Z
DTSTAMP:20260420T130354Z
DTEND:20180917T193000Z
LOCATION:San Diego
DESCRIPTION:Nano Tenchnology Event
URL;VALUE=URI:https://industrialbiotech.conferenceseries.com/
SUMMARY:Annual Industrial Biotechnology and Bioprocessing Congress
END:VEVENT
END:VCALENDAR
