BEGIN:VCALENDAR
VERSION:2.0
PRODID:-//hacksw/handcal//NONSGML v1.0//EN
CALSCALE:GREGORIAN
BEGIN:VEVENT
UID:69e5e9d474e65
DTSTART:20180717T193000Z
DTSTAMP:20260420T085444Z
DTEND:20180718T193000Z
LOCATION:Atlanta
DESCRIPTION:Nano Tenchnology Event
URL;VALUE=URI:https://organicchemistry.conferenceseries.com/
SUMMARY:24th Global Organic & Inorganic Chemistry Conference
END:VEVENT
END:VCALENDAR
