BEGIN:VCALENDAR
VERSION:2.0
PRODID:-//hacksw/handcal//NONSGML v1.0//EN
CALSCALE:GREGORIAN
BEGIN:VEVENT
UID:69e5e9bce612b
DTSTART:20180711T193000Z
DTSTAMP:20260420T085420Z
DTEND:20180712T193000Z
LOCATION:Paris
DESCRIPTION:Nano Tenchnology Event
URL;VALUE=URI:https://organic-chemistry.chemistryconferences.org/
SUMMARY:5th International Conference on  Organic and Inorganic Chemis
 stry
END:VEVENT
END:VCALENDAR
