BEGIN:VCALENDAR
VERSION:2.0
PRODID:-//hacksw/handcal//NONSGML v1.0//EN
CALSCALE:GREGORIAN
BEGIN:VEVENT
UID:69e5e99311175
DTSTART:20180624T193000Z
DTSTAMP:20260420T085339Z
DTEND:20180626T193000Z
LOCATION:Stockholm
DESCRIPTION:Nano Tenchnology Event
URL;VALUE=URI:https://polymerchemistry.chemistryconferences.org/
SUMMARY:4th International Conference on Polymer Chemistry
END:VEVENT
END:VCALENDAR
