BEGIN:VCALENDAR
VERSION:2.0
PRODID:-//hacksw/handcal//NONSGML v1.0//EN
CALSCALE:GREGORIAN
BEGIN:VEVENT
UID:69e5e9d321776
DTSTART:20180620T193000Z
DTSTAMP:20260420T085443Z
DTEND:20180621T193000Z
LOCATION:Oslo
DESCRIPTION:Nano Tenchnology Event
URL;VALUE=URI:https://chemistryeducation.chemistryconferences.org/
SUMMARY:10th International Conference on  Chemistry Education and Res
 search
END:VEVENT
END:VCALENDAR
