BEGIN:VCALENDAR
VERSION:2.0
PRODID:-//hacksw/handcal//NONSGML v1.0//EN
CALSCALE:GREGORIAN
BEGIN:VEVENT
UID:69e5cf784c4e6
DTSTART:20180610T193000Z
DTSTAMP:20260420T070216Z
DTEND:20180611T193000Z
LOCATION:Rome
DESCRIPTION:Nano Tenchnology Event
URL;VALUE=URI:https://electrochemistry.conferenceseries.com/
SUMMARY:4th International Conference on  Electrochemistry
END:VEVENT
END:VCALENDAR
