BEGIN:VCALENDAR
VERSION:2.0
PRODID:-//hacksw/handcal//NONSGML v1.0//EN
CALSCALE:GREGORIAN
BEGIN:VEVENT
UID:69e65f5282c07
DTSTART:20181114T203000Z
DTSTAMP:20260420T171602Z
DTEND:20181115T203000Z
LOCATION:Dubai
DESCRIPTION:Nano Tenchnology Event
URL;VALUE=URI:https://green-catalysis.conferenceseries.com/
SUMMARY:Annual Conference on  Green Catalysis and Sustainable Energy
END:VEVENT
END:VCALENDAR
