BEGIN:VCALENDAR
VERSION:2.0
PRODID:-//hacksw/handcal//NONSGML v1.0//EN
CALSCALE:GREGORIAN
BEGIN:VEVENT
UID:69e611a6c73b6
DTSTART:20180905T193000Z
DTSTAMP:20260420T114438Z
DTEND:20180906T193000Z
LOCATION:Dubai
DESCRIPTION:Nano Tenchnology Event
URL;VALUE=URI:https://polymer-catalysis.conferenceseries.com/
SUMMARY:International Conference on  Polymerization Catalysis and Fle
 exible Polymer
END:VEVENT
END:VCALENDAR
