BEGIN:VCALENDAR
VERSION:2.0
PRODID:-//hacksw/handcal//NONSGML v1.0//EN
CALSCALE:GREGORIAN
BEGIN:VEVENT
UID:69e611e04898b
DTSTART:20180830T193000Z
DTSTAMP:20260420T114536Z
DTEND:20180831T193000Z
LOCATION:Toronto
DESCRIPTION:Nano Tenchnology Event
URL;VALUE=URI:https://pureappliedchemistry.conferenceseries.com/
SUMMARY:18th International Conference on  Pure & Applied Chemistry
END:VEVENT
END:VCALENDAR
