BEGIN:VCALENDAR
VERSION:2.0
PRODID:-//hacksw/handcal//NONSGML v1.0//EN
CALSCALE:GREGORIAN
BEGIN:VEVENT
UID:69e611b25ec3c
DTSTART:20180828T193000Z
DTSTAMP:20260420T114450Z
DTEND:20180829T193000Z
LOCATION:Toronto
DESCRIPTION:Nano Tenchnology Event
URL;VALUE=URI:https://analyticalchemistry.conferenceseries.com/
SUMMARY:18th World Analytical Chemistry & Mass Spectrometry
END:VEVENT
END:VCALENDAR
