BEGIN:VCALENDAR
VERSION:2.0
PRODID:-//hacksw/handcal//NONSGML v1.0//EN
CALSCALE:GREGORIAN
BEGIN:VEVENT
UID:69e5fda9f3cb4
DTSTART:20180826T193000Z
DTSTAMP:20260420T101921Z
DTEND:20180827T193000Z
LOCATION:Boston
DESCRIPTION:Nano Tenchnology Event
URL;VALUE=URI:https://greenchemistry.conferenceseries.com/
SUMMARY:21st International Conference on  Past and Present Research S
 Systems on Green Chemistry
END:VEVENT
END:VCALENDAR
