BEGIN:VCALENDAR
VERSION:2.0
PRODID:-//hacksw/handcal//NONSGML v1.0//EN
CALSCALE:GREGORIAN
BEGIN:VEVENT
UID:69e5fdf7548eb
DTSTART:20180826T193000Z
DTSTAMP:20260420T102039Z
DTEND:20180827T193000Z
LOCATION:Toronto
DESCRIPTION:Nano Tenchnology Event
URL;VALUE=URI:https://polymer.conferenceseries.com/
SUMMARY:5th International Conference and Exhibition on  Polymer Chemi
 istry
END:VEVENT
END:VCALENDAR
