BEGIN:VCALENDAR
VERSION:2.0
PRODID:-//hacksw/handcal//NONSGML v1.0//EN
CALSCALE:GREGORIAN
BEGIN:VEVENT
UID:69e5fdb1ed191
DTSTART:20180819T193000Z
DTSTAMP:20260420T101929Z
DTEND:20180821T193000Z
LOCATION:Prague
DESCRIPTION:Nano Tenchnology Event
URL;VALUE=URI:https://pharmaceuticalchemistry.annualcongress.com/
SUMMARY:4th Pharmaceutical Chemistry Conference
END:VEVENT
END:VCALENDAR
