BEGIN:VCALENDAR
VERSION:2.0
PRODID:-//hacksw/handcal//NONSGML v1.0//EN
CALSCALE:GREGORIAN
BEGIN:VEVENT
UID:69e68fad61b06
DTSTART:20190324T193000Z
DTSTAMP:20260420T204221Z
DTEND:20190325T193000Z
LOCATION:Hong Kong
DESCRIPTION:Nano Tenchnology Event
URL;VALUE=URI:https://world.chemistryconferences.org/
SUMMARY:25th World Congress on Chemistry
END:VEVENT
END:VCALENDAR
