BEGIN:VCALENDAR
VERSION:2.0
PRODID:-//hacksw/handcal//NONSGML v1.0//EN
CALSCALE:GREGORIAN
BEGIN:VEVENT
UID:69e68fe6c2b76
DTSTART:20190320T203000Z
DTSTAMP:20260420T204318Z
DTEND:20190321T203000Z
LOCATION:Rome
DESCRIPTION:Nano Tenchnology Event
URL;VALUE=URI:https://organicchemistry.conferenceseries.com/europe/
SUMMARY:10th European Organic Chemistry Congress
END:VEVENT
END:VCALENDAR
