BEGIN:VCALENDAR
VERSION:2.0
PRODID:-//hacksw/handcal//NONSGML v1.0//EN
CALSCALE:GREGORIAN
BEGIN:VEVENT
UID:69e67497237ad
DTSTART:20181204T203000Z
DTSTAMP:20260420T184647Z
DTEND:20181205T203000Z
LOCATION:Vancouver
DESCRIPTION:Nano Tenchnology Event
URL;VALUE=URI:https://chemistrydrugdiscovery.pharmaceuticalconference
 es.com/
SUMMARY:28th International conference on Chemistry & Drug Designing 2
 2018
END:VEVENT
END:VCALENDAR
