BEGIN:VCALENDAR
VERSION:2.0
PRODID:-//hacksw/handcal//NONSGML v1.0//EN
CALSCALE:GREGORIAN
BEGIN:VEVENT
UID:69e65f6230569
DTSTART:20181104T203000Z
DTSTAMP:20260420T171618Z
DTEND:20181105T203000Z
LOCATION:San Francisco
DESCRIPTION:Nano Tenchnology Event
URL;VALUE=URI:https://catalysis.conferenceseries.com/
SUMMARY:nternational Conference on Catalysis and Pyrolysis 2018 (ICCP
 P-2018)
END:VEVENT
END:VCALENDAR
